BEGIN:VCALENDAR
VERSION:2.0
PRODID:-//Associació Ludoquintinenca - ECPv6.15.20//NONSGML v1.0//EN
CALSCALE:GREGORIAN
METHOD:PUBLISH
X-WR-CALNAME:Associació Ludoquintinenca
X-ORIGINAL-URL:https://ludoquintinenca.cat
X-WR-CALDESC:Esdeveniments per Associació Ludoquintinenca
REFRESH-INTERVAL;VALUE=DURATION:PT1H
X-Robots-Tag:noindex
X-PUBLISHED-TTL:PT1H
BEGIN:VTIMEZONE
TZID:Europe/Madrid
BEGIN:DAYLIGHT
TZOFFSETFROM:+0100
TZOFFSETTO:+0200
TZNAME:CEST
DTSTART:20250330T010000
END:DAYLIGHT
BEGIN:STANDARD
TZOFFSETFROM:+0200
TZOFFSETTO:+0100
TZNAME:CET
DTSTART:20251026T010000
END:STANDARD
BEGIN:DAYLIGHT
TZOFFSETFROM:+0100
TZOFFSETTO:+0200
TZNAME:CEST
DTSTART:20260329T010000
END:DAYLIGHT
BEGIN:STANDARD
TZOFFSETFROM:+0200
TZOFFSETTO:+0100
TZNAME:CET
DTSTART:20261025T010000
END:STANDARD
BEGIN:DAYLIGHT
TZOFFSETFROM:+0100
TZOFFSETTO:+0200
TZNAME:CEST
DTSTART:20270328T010000
END:DAYLIGHT
BEGIN:STANDARD
TZOFFSETFROM:+0200
TZOFFSETTO:+0100
TZNAME:CET
DTSTART:20271031T010000
END:STANDARD
END:VTIMEZONE
BEGIN:VEVENT
DTSTART;TZID=Europe/Madrid:20260124T160000
DTEND;TZID=Europe/Madrid:20260124T200000
DTSTAMP:20260420T082015
CREATED:20260121T192043Z
LAST-MODIFIED:20260121T192626Z
UID:322-1769270400-1769284800@ludoquintinenca.cat
SUMMARY:Jornada Extra 1. Zombicide
DESCRIPTION:Opertura Extra! No ho teníem al calendari mensual\, però dissabte obrirem de 16h a 20h.\nZombicide i joc lliure 🧟‍♂️
URL:https://ludoquintinenca.cat/esdeveniment/jornada-extra-1-zombicide/
LOCATION:Local ALQ\, Av. Catalunya 39\, local 1\, Sant Quintí de Mediona\, Barcelona\, 08777\, Spain
CATEGORIES:Extra
ATTACH;FMTTYPE=image/jpeg:https://ludoquintinenca.cat/wp-content/uploads/2026/01/20181018173135_zombicide01.jpg
END:VEVENT
END:VCALENDAR