BEGIN:VCALENDAR
VERSION:2.0
PRODID:-//Associació Ludoquintinenca - ECPv6.15.20//NONSGML v1.0//EN
CALSCALE:GREGORIAN
METHOD:PUBLISH
X-ORIGINAL-URL:https://ludoquintinenca.cat
X-WR-CALDESC:Esdeveniments per Associació Ludoquintinenca
REFRESH-INTERVAL;VALUE=DURATION:PT1H
X-Robots-Tag:noindex
X-PUBLISHED-TTL:PT1H
BEGIN:VTIMEZONE
TZID:Europe/Madrid
BEGIN:DAYLIGHT
TZOFFSETFROM:+0100
TZOFFSETTO:+0200
TZNAME:CEST
DTSTART:20240331T010000
END:DAYLIGHT
BEGIN:STANDARD
TZOFFSETFROM:+0200
TZOFFSETTO:+0100
TZNAME:CET
DTSTART:20241027T010000
END:STANDARD
BEGIN:DAYLIGHT
TZOFFSETFROM:+0100
TZOFFSETTO:+0200
TZNAME:CEST
DTSTART:20250330T010000
END:DAYLIGHT
BEGIN:STANDARD
TZOFFSETFROM:+0200
TZOFFSETTO:+0100
TZNAME:CET
DTSTART:20251026T010000
END:STANDARD
BEGIN:DAYLIGHT
TZOFFSETFROM:+0100
TZOFFSETTO:+0200
TZNAME:CEST
DTSTART:20260329T010000
END:DAYLIGHT
BEGIN:STANDARD
TZOFFSETFROM:+0200
TZOFFSETTO:+0100
TZNAME:CET
DTSTART:20261025T010000
END:STANDARD
END:VTIMEZONE
BEGIN:VEVENT
DTSTART;TZID=Europe/Madrid:20251227T170000
DTEND;TZID=Europe/Madrid:20251227T210000
DTSTAMP:20260420T043136
CREATED:20251214T184900Z
LAST-MODIFIED:20251223T111833Z
UID:32-1766854800-1766869200@ludoquintinenca.cat
SUMMARY:Presentació en societat
DESCRIPTION:Presentació en societat de l’Associació Ludoquintinenca a Sant Quintí de Mediona. Vine a conèixer els objectius\, activitats i els projectes de la nova entitat local: TCG\, jocs de taula. Participar i col·laborar en la vida comunitària.
URL:https://ludoquintinenca.cat/esdeveniment/presentacio-en-societat/
LOCATION:Local ALQ\, Av. Catalunya 39\, local 1\, Sant Quintí de Mediona\, Barcelona\, 08777\, Spain
CATEGORIES:Gratuït,Portes obertes
END:VEVENT
END:VCALENDAR