BEGIN:VCALENDAR
VERSION:2.0
PRODID:-//Associació Ludoquintinenca - ECPv6.15.20//NONSGML v1.0//EN
CALSCALE:GREGORIAN
METHOD:PUBLISH
X-WR-CALNAME:Associació Ludoquintinenca
X-ORIGINAL-URL:https://ludoquintinenca.cat
X-WR-CALDESC:Esdeveniments per Associació Ludoquintinenca
REFRESH-INTERVAL;VALUE=DURATION:PT1H
X-Robots-Tag:noindex
X-PUBLISHED-TTL:PT1H
BEGIN:VTIMEZONE
TZID:Europe/Madrid
BEGIN:DAYLIGHT
TZOFFSETFROM:+0100
TZOFFSETTO:+0200
TZNAME:CEST
DTSTART:20250330T010000
END:DAYLIGHT
BEGIN:STANDARD
TZOFFSETFROM:+0200
TZOFFSETTO:+0100
TZNAME:CET
DTSTART:20251026T010000
END:STANDARD
BEGIN:DAYLIGHT
TZOFFSETFROM:+0100
TZOFFSETTO:+0200
TZNAME:CEST
DTSTART:20260329T010000
END:DAYLIGHT
BEGIN:STANDARD
TZOFFSETFROM:+0200
TZOFFSETTO:+0100
TZNAME:CET
DTSTART:20261025T010000
END:STANDARD
BEGIN:DAYLIGHT
TZOFFSETFROM:+0100
TZOFFSETTO:+0200
TZNAME:CEST
DTSTART:20270328T010000
END:DAYLIGHT
BEGIN:STANDARD
TZOFFSETFROM:+0200
TZOFFSETTO:+0100
TZNAME:CET
DTSTART:20271031T010000
END:STANDARD
END:VTIMEZONE
BEGIN:VEVENT
DTSTART;TZID=Europe/Madrid:20260201T160000
DTEND;TZID=Europe/Madrid:20260201T200000
DTSTAMP:20260421T150520
CREATED:20260127T211417Z
LAST-MODIFIED:20260127T212004Z
UID:348-1769961600-1769976000@ludoquintinenca.cat
SUMMARY:Jornada Extra 2.  Preparació personatges ROL.
DESCRIPTION:Dia dedicat a preparar personatges per a les partides de rol.\nLa primera sessió serà el 21 (places limitades a 4 persones). \nSi voleu\, podeu quedar-vos a jugar a jocs de taula en format tranquil com els dies de normal.
URL:https://ludoquintinenca.cat/esdeveniment/jornada-extra-2-preparacio-personatges-rol/
LOCATION:Local ALQ\, Av. Catalunya 39\, local 1\, Sant Quintí de Mediona\, Barcelona\, 08777\, Spain
CATEGORIES:Extra,Jornada silenciosa
ATTACH;FMTTYPE=image/png:https://ludoquintinenca.cat/wp-content/uploads/2026/01/rol_creacio.png
END:VEVENT
BEGIN:VEVENT
DTSTART;TZID=Europe/Madrid:20260214T160000
DTEND;TZID=Europe/Madrid:20260214T200000
DTSTAMP:20260421T150520
CREATED:20260105T113054Z
LAST-MODIFIED:20260105T183438Z
UID:210-1771084800-1771099200@ludoquintinenca.cat
SUMMARY:Jornada 5. Especial dia dels enamorats.
DESCRIPTION:Vine a divertir-te en parella\, jornada dedicada als jocs on es pugui jugar cooperativament en parella o entre parelles.
URL:https://ludoquintinenca.cat/esdeveniment/jornada-5-especial-dia-dels-enamorats/
LOCATION:Local ALQ\, Av. Catalunya 39\, local 1\, Sant Quintí de Mediona\, Barcelona\, 08777\, Spain
ATTACH;FMTTYPE=image/png:https://ludoquintinenca.cat/wp-content/uploads/2026/01/dia-dels-enamorats-scaled.png
END:VEVENT
BEGIN:VEVENT
DTSTART;TZID=Europe/Madrid:20260215T160000
DTEND;TZID=Europe/Madrid:20260215T200000
DTSTAMP:20260421T150520
CREATED:20260105T113524Z
LAST-MODIFIED:20260108T074126Z
UID:212-1771171200-1771185600@ludoquintinenca.cat
SUMMARY:Jornada 6. Preparació personatges ROL.
DESCRIPTION:Dia dedicat a preparar els personatges a utilitzar en les partides de rol. La primera partida se celebrarà el dia 21 (limitat a 4 persones).\n\nTambé es jugarà a “Aventureros al tren”.\n  \nAquest dia es limitaran els jocs d’alta intensitat sonora com Beyblade.
URL:https://ludoquintinenca.cat/esdeveniment/jornada-6-preparacio-personatges-rol/
LOCATION:Local ALQ\, Av. Catalunya 39\, local 1\, Sant Quintí de Mediona\, Barcelona\, 08777\, Spain
ATTACH;FMTTYPE=image/jpeg:https://ludoquintinenca.cat/wp-content/uploads/2026/01/Rol.jpeg
END:VEVENT
BEGIN:VEVENT
DTSTART;TZID=Europe/Madrid:20260221T160000
DTEND;TZID=Europe/Madrid:20260221T200000
DTSTAMP:20260421T150520
CREATED:20260105T114141Z
LAST-MODIFIED:20260108T150447Z
UID:214-1771689600-1771704000@ludoquintinenca.cat
SUMMARY:Jornada 7. Rol i D&D.
DESCRIPTION:One shot rol (Límit 4 persones). \nJoc de taula de D&D (Límit 4 persones) \n  \nAquest dia no es permetran els jocs d’alta intensitat sonora com Beyblade.
URL:https://ludoquintinenca.cat/esdeveniment/jornada-7-rol-i-dd/
LOCATION:Local ALQ\, Av. Catalunya 39\, local 1\, Sant Quintí de Mediona\, Barcelona\, 08777\, Spain
ATTACH;FMTTYPE=image/jpeg:https://ludoquintinenca.cat/wp-content/uploads/2026/01/DnD-BOX.jpeg
END:VEVENT
BEGIN:VEVENT
DTSTART;TZID=Europe/Madrid:20260228T160000
DTEND;TZID=Europe/Madrid:20260228T200000
DTSTAMP:20260421T150520
CREATED:20260105T114810Z
LAST-MODIFIED:20260225T125521Z
UID:217-1772294400-1772308800@ludoquintinenca.cat
SUMMARY:Jornada 8. Draft Magic "Lorwyn Eclipsed"
DESCRIPTION:Draft Magic “Lorwyn Eclipsed”.\nEsdeveniment amb inscripció prèvia\n3 sobres per cap.\n15€
URL:https://ludoquintinenca.cat/esdeveniment/jornada-8-draft-magic-lorwyn-eclipse/
LOCATION:Local ALQ\, Av. Catalunya 39\, local 1\, Sant Quintí de Mediona\, Barcelona\, 08777\, Spain
CATEGORIES:Porta tancada
ATTACH;FMTTYPE=image/png:https://ludoquintinenca.cat/wp-content/uploads/2026/01/Lorwyn-Eclipsed.png
END:VEVENT
BEGIN:VEVENT
DTSTART;TZID=Europe/Madrid:20260301T160000
DTEND;TZID=Europe/Madrid:20260301T200000
DTSTAMP:20260421T150520
CREATED:20260105T115044Z
LAST-MODIFIED:20260225T125210Z
UID:219-1772380800-1772395200@ludoquintinenca.cat
SUMMARY:Jornada 9. Torneig Beyblade
DESCRIPTION:Let it Rip!
URL:https://ludoquintinenca.cat/esdeveniment/jornada-9-torneig-beyblade/
LOCATION:Local ALQ\, Av. Catalunya 39\, local 1\, Sant Quintí de Mediona\, Barcelona\, 08777\, Spain
CATEGORIES:Torneig
ATTACH;FMTTYPE=image/jpeg:https://ludoquintinenca.cat/wp-content/uploads/2026/01/BaybladeX.jpeg
END:VEVENT
BEGIN:VEVENT
DTSTART;TZID=Europe/Madrid:20260307T160000
DTEND;TZID=Europe/Madrid:20260307T200000
DTSTAMP:20260421T150520
CREATED:20260302T075701Z
LAST-MODIFIED:20260302T081118Z
UID:363-1772899200-1772913600@ludoquintinenca.cat
SUMMARY:Jornada 10. Magic: The Gathering.
DESCRIPTION:Magic: The Gathering. \nAquest dia no es permetran els jocs d’alta intensitat sonora com Beyblade.
URL:https://ludoquintinenca.cat/esdeveniment/jornada-10-magic-the-gathering/
LOCATION:Local ALQ\, Av. Catalunya 39\, local 1\, Sant Quintí de Mediona\, Barcelona\, 08777\, Spain
CATEGORIES:Jornada silenciosa
ATTACH;FMTTYPE=image/png:https://ludoquintinenca.cat/wp-content/uploads/2026/01/mtg-alq-jj.png
END:VEVENT
BEGIN:VEVENT
DTSTART;TZID=Europe/Madrid:20260321T160000
DTEND;TZID=Europe/Madrid:20260321T200000
DTSTAMP:20260421T150520
CREATED:20260302T075957Z
LAST-MODIFIED:20260317T085619Z
UID:365-1774108800-1774123200@ludoquintinenca.cat
SUMMARY:Jornada 11. Rol.
DESCRIPTION:Rol (Grup tancat). \nAquest dia no es permetran els jocs d’alta intensitat sonora com Beyblade.
URL:https://ludoquintinenca.cat/esdeveniment/jornada-11-rol-i-dd/
LOCATION:Local ALQ\, Av. Catalunya 39\, local 1\, Sant Quintí de Mediona\, Barcelona\, 08777\, Spain
CATEGORIES:Jornada silenciosa,Porta tancada
ATTACH;FMTTYPE=image/png:https://ludoquintinenca.cat/wp-content/uploads/2026/01/Rol_slime.png
END:VEVENT
BEGIN:VEVENT
DTSTART;TZID=Europe/Madrid:20260322T160000
DTEND;TZID=Europe/Madrid:20260322T200000
DTSTAMP:20260421T150520
CREATED:20260302T080252Z
LAST-MODIFIED:20260302T080818Z
UID:367-1774195200-1774209600@ludoquintinenca.cat
SUMMARY:Jornada 12. Joc lliure.
DESCRIPTION:Obrim amb normalitat. \nPodeu jugar al que vulgueu i fer propostes.
URL:https://ludoquintinenca.cat/esdeveniment/jornada-12-joc-lliure/
LOCATION:Local ALQ\, Av. Catalunya 39\, local 1\, Sant Quintí de Mediona\, Barcelona\, 08777\, Spain
ATTACH;FMTTYPE=image/png:https://ludoquintinenca.cat/wp-content/uploads/2025/12/Grup-de-persones-jugant-a-jocs-de-taula.png
END:VEVENT
BEGIN:VEVENT
DTSTART;TZID=Europe/Madrid:20260328T160000
DTEND;TZID=Europe/Madrid:20260328T200000
DTSTAMP:20260421T150520
CREATED:20260302T080531Z
LAST-MODIFIED:20260302T081216Z
UID:369-1774713600-1774728000@ludoquintinenca.cat
SUMMARY:Jornada 13. Beyblade X.
DESCRIPTION:Vine a provar les teves combinacions de Beyblade X i a practicar.
URL:https://ludoquintinenca.cat/esdeveniment/jornada-13-beyblade/
LOCATION:Local ALQ\, Av. Catalunya 39\, local 1\, Sant Quintí de Mediona\, Barcelona\, 08777\, Spain
ATTACH;FMTTYPE=image/jpeg:https://ludoquintinenca.cat/wp-content/uploads/2026/01/Beyblade.jpg
END:VEVENT
BEGIN:VEVENT
DTSTART;TZID=Europe/Madrid:20260404T160000
DTEND;TZID=Europe/Madrid:20260404T200000
DTSTAMP:20260421T150520
CREATED:20260302T080753Z
LAST-MODIFIED:20260302T081221Z
UID:372-1775318400-1775332800@ludoquintinenca.cat
SUMMARY:Jornada 14. Portes obertes.
DESCRIPTION:Jornada de portes obertes per venir a jugar\, conèixer l’associació\, etc.
URL:https://ludoquintinenca.cat/esdeveniment/jornada-14-portes-obertes/
LOCATION:Local ALQ\, Av. Catalunya 39\, local 1\, Sant Quintí de Mediona\, Barcelona\, 08777\, Spain
CATEGORIES:Gratuït
ATTACH;FMTTYPE=image/png:https://ludoquintinenca.cat/wp-content/uploads/2025/12/cropped-Logo_ALQ_transparent_512px.png
END:VEVENT
BEGIN:VEVENT
DTSTART;TZID=Europe/Madrid:20260405T160000
DTEND;TZID=Europe/Madrid:20260405T200000
DTSTAMP:20260421T150520
CREATED:20260302T081509Z
LAST-MODIFIED:20260302T081509Z
UID:376-1775404800-1775419200@ludoquintinenca.cat
SUMMARY:Jornada 15. Magic: The Gathering + Joc lliure.
DESCRIPTION:Magic: The Gathering i joc lliure. \nAquest dia no es permetran els jocs d’alta intensitat sonora com Beyblade.
URL:https://ludoquintinenca.cat/esdeveniment/jornada-15-magic-the-gathering-joc-lliure/
LOCATION:Local ALQ\, Av. Catalunya 39\, local 1\, Sant Quintí de Mediona\, Barcelona\, 08777\, Spain
CATEGORIES:Jornada silenciosa
ATTACH;FMTTYPE=image/png:https://ludoquintinenca.cat/wp-content/uploads/2026/01/mtg-alq-jj.png
END:VEVENT
BEGIN:VEVENT
DTSTART;TZID=Europe/Madrid:20260418T160000
DTEND;TZID=Europe/Madrid:20260418T200000
DTSTAMP:20260421T150520
CREATED:20260302T081625Z
LAST-MODIFIED:20260408T192429Z
UID:378-1776528000-1776542400@ludoquintinenca.cat
SUMMARY:Jornada 16. Rol i D&D.
DESCRIPTION:Rol (Grup tancat). \nJoc de taula de D&D (Límit 4 persones) \n  \nAquest dia no es permetran els jocs d’alta intensitat sonora com Beyblade.
URL:https://ludoquintinenca.cat/esdeveniment/jornada-16-rol-i-dd/
LOCATION:Local ALQ\, Av. Catalunya 39\, local 1\, Sant Quintí de Mediona\, Barcelona\, 08777\, Spain
CATEGORIES:Jornada silenciosa
ATTACH;FMTTYPE=image/jpeg:https://ludoquintinenca.cat/wp-content/uploads/2026/01/DnD-BOX.jpeg
END:VEVENT
BEGIN:VEVENT
DTSTART;TZID=Europe/Madrid:20260419T160000
DTEND;TZID=Europe/Madrid:20260419T200000
DTSTAMP:20260421T150520
CREATED:20260409T235835Z
LAST-MODIFIED:20260414T082032Z
UID:459-1776614400-1776628800@ludoquintinenca.cat
SUMMARY:Prerelease: Secrets of Strixhaven
DESCRIPTION:Vine a gaudir de la Prerelease: Secrets of Strixhaven a l’ALQ! La teva carta d’acceptació a la Universitat de Strixhaven ha arribat. \nPrepara’t per a una temporada de rivalitat i encanteris. No et perdis l’oportunitat de ser dels primers a descobrir les novetats de Strixhaven. \nInlcou: \n\nPack de presentació amb 6 sobres\, 1 dau\, 1 carta foil.\nUn sobre extra de participació per a tothom!\n\nPremis: \n\n3 sobres strixhaven al guanyador.\n2 al 2n classificat.\n1 al 3r classificat.
URL:https://ludoquintinenca.cat/esdeveniment/prerelease-secrets-of-strixhaven/
LOCATION:Local ALQ\, Av. Catalunya 39\, local 1\, Sant Quintí de Mediona\, Barcelona\, 08777\, Spain
CATEGORIES:Porta tancada
ATTACH;FMTTYPE=image/jpeg:https://ludoquintinenca.cat/wp-content/uploads/2026/04/strixhaven_ALQ.jpeg
END:VEVENT
BEGIN:VEVENT
DTSTART;TZID=Europe/Madrid:20260426T160000
DTEND;TZID=Europe/Madrid:20260426T200000
DTSTAMP:20260421T150520
CREATED:20260302T081836Z
LAST-MODIFIED:20260408T192507Z
UID:380-1777219200-1777233600@ludoquintinenca.cat
SUMMARY:Jornada 17. Beyblade + Joc lliure.
DESCRIPTION:Joc lliure i Beyblade.
URL:https://ludoquintinenca.cat/esdeveniment/jornada-17-beyblade-joc-lliure/
LOCATION:Local ALQ\, Av. Catalunya 39\, local 1\, Sant Quintí de Mediona\, Barcelona\, 08777\, Spain
ATTACH;FMTTYPE=image/jpeg:https://ludoquintinenca.cat/wp-content/uploads/2026/01/Beyblade.jpg
END:VEVENT
END:VCALENDAR