BEGIN:VCALENDAR
VERSION:2.0
PRODID:-//Associació Ludoquintinenca - ECPv6.15.20//NONSGML v1.0//EN
CALSCALE:GREGORIAN
METHOD:PUBLISH
X-WR-CALNAME:Associació Ludoquintinenca
X-ORIGINAL-URL:https://ludoquintinenca.cat
X-WR-CALDESC:Esdeveniments per Associació Ludoquintinenca
REFRESH-INTERVAL;VALUE=DURATION:PT1H
X-Robots-Tag:noindex
X-PUBLISHED-TTL:PT1H
BEGIN:VTIMEZONE
TZID:Europe/Madrid
BEGIN:DAYLIGHT
TZOFFSETFROM:+0100
TZOFFSETTO:+0200
TZNAME:CEST
DTSTART:20250330T010000
END:DAYLIGHT
BEGIN:STANDARD
TZOFFSETFROM:+0200
TZOFFSETTO:+0100
TZNAME:CET
DTSTART:20251026T010000
END:STANDARD
BEGIN:DAYLIGHT
TZOFFSETFROM:+0100
TZOFFSETTO:+0200
TZNAME:CEST
DTSTART:20260329T010000
END:DAYLIGHT
BEGIN:STANDARD
TZOFFSETFROM:+0200
TZOFFSETTO:+0100
TZNAME:CET
DTSTART:20261025T010000
END:STANDARD
BEGIN:DAYLIGHT
TZOFFSETFROM:+0100
TZOFFSETTO:+0200
TZNAME:CEST
DTSTART:20270328T010000
END:DAYLIGHT
BEGIN:STANDARD
TZOFFSETFROM:+0200
TZOFFSETTO:+0100
TZNAME:CET
DTSTART:20271031T010000
END:STANDARD
END:VTIMEZONE
BEGIN:VEVENT
DTSTART;TZID=Europe/Madrid:20260103T160000
DTEND;TZID=Europe/Madrid:20260103T200000
DTSTAMP:20260421T150941
CREATED:20251230T133101Z
LAST-MODIFIED:20251230T133101Z
UID:144-1767456000-1767470400@ludoquintinenca.cat
SUMMARY:🎲 Jornada 1
DESCRIPTION:Recordem que l’entrada inclou un refresc.\nLa resta es destinarà a cobrir despeses de l’associació i a adquirir nous jocs. Vine a jugar i col·labora!
URL:https://ludoquintinenca.cat/esdeveniment/%f0%9f%8e%b2-jornada-1/
LOCATION:Local ALQ\, Av. Catalunya 39\, local 1\, Sant Quintí de Mediona\, Barcelona\, 08777\, Spain
END:VEVENT
BEGIN:VEVENT
DTSTART;TZID=Europe/Madrid:20260104T160000
DTEND;TZID=Europe/Madrid:20260104T200000
DTSTAMP:20260421T150941
CREATED:20260102T140638Z
LAST-MODIFIED:20260102T140638Z
UID:181-1767542400-1767556800@ludoquintinenca.cat
SUMMARY:Jornada 2
DESCRIPTION:Obrim amb normalitat. \nPodeu jugar al que volgueu i fer propostes.
URL:https://ludoquintinenca.cat/esdeveniment/jornada-2/
LOCATION:Local ALQ\, Av. Catalunya 39\, local 1\, Sant Quintí de Mediona\, Barcelona\, 08777\, Spain
END:VEVENT
BEGIN:VEVENT
DTSTART;TZID=Europe/Madrid:20260118T160000
DTEND;TZID=Europe/Madrid:20260118T200000
DTSTAMP:20260421T150941
CREATED:20260105T112054Z
LAST-MODIFIED:20260113T102519Z
UID:203-1768752000-1768766400@ludoquintinenca.cat
SUMMARY:Jornada 3. Iniciació "The Island"
DESCRIPTION:Iniciació “The Island – Julian Courtland-Smith”.\n\nIniciació “Munchkin”.\n\nRummikub i Joc lliure.
URL:https://ludoquintinenca.cat/esdeveniment/jornada-3/
LOCATION:Local ALQ\, Av. Catalunya 39\, local 1\, Sant Quintí de Mediona\, Barcelona\, 08777\, Spain
ATTACH;FMTTYPE=image/jpeg:https://ludoquintinenca.cat/wp-content/uploads/2026/01/The-Island-Julian-Courtland-Smith.jpeg
END:VEVENT
BEGIN:VEVENT
DTSTART;TZID=Europe/Madrid:20260124T160000
DTEND;TZID=Europe/Madrid:20260124T200000
DTSTAMP:20260421T150941
CREATED:20260121T192043Z
LAST-MODIFIED:20260121T192626Z
UID:322-1769270400-1769284800@ludoquintinenca.cat
SUMMARY:Jornada Extra 1. Zombicide
DESCRIPTION:Opertura Extra! No ho teníem al calendari mensual\, però dissabte obrirem de 16h a 20h.\nZombicide i joc lliure 🧟‍♂️
URL:https://ludoquintinenca.cat/esdeveniment/jornada-extra-1-zombicide/
LOCATION:Local ALQ\, Av. Catalunya 39\, local 1\, Sant Quintí de Mediona\, Barcelona\, 08777\, Spain
CATEGORIES:Extra
ATTACH;FMTTYPE=image/jpeg:https://ludoquintinenca.cat/wp-content/uploads/2026/01/20181018173135_zombicide01.jpg
END:VEVENT
BEGIN:VEVENT
DTSTART;TZID=Europe/Madrid:20260131T160000
DTEND;TZID=Europe/Madrid:20260131T200000
DTSTAMP:20260421T150941
CREATED:20260105T112655Z
LAST-MODIFIED:20260105T182401Z
UID:206-1769875200-1769889600@ludoquintinenca.cat
SUMMARY:Jornada 4. Iniciació "Magic: The Gathering".
DESCRIPTION:Iniciació “Magic: The Gathering”. \nAquest dia no es permetran els jocs d’alta intensitat sonora com Beyblade.
URL:https://ludoquintinenca.cat/esdeveniment/jornada-4/
LOCATION:Local ALQ\, Av. Catalunya 39\, local 1\, Sant Quintí de Mediona\, Barcelona\, 08777\, Spain
ATTACH;FMTTYPE=image/png:https://ludoquintinenca.cat/wp-content/uploads/2026/01/mtg-alq-jj.png
END:VEVENT
END:VCALENDAR