BEGIN:VCALENDAR
VERSION:2.0
PRODID:-//Associació Ludoquintinenca - ECPv6.15.20//NONSGML v1.0//EN
CALSCALE:GREGORIAN
METHOD:PUBLISH
X-ORIGINAL-URL:https://ludoquintinenca.cat
X-WR-CALDESC:Esdeveniments per Associació Ludoquintinenca
REFRESH-INTERVAL;VALUE=DURATION:PT1H
X-Robots-Tag:noindex
X-PUBLISHED-TTL:PT1H
BEGIN:VTIMEZONE
TZID:Europe/Madrid
BEGIN:DAYLIGHT
TZOFFSETFROM:+0100
TZOFFSETTO:+0200
TZNAME:CEST
DTSTART:20250330T010000
END:DAYLIGHT
BEGIN:STANDARD
TZOFFSETFROM:+0200
TZOFFSETTO:+0100
TZNAME:CET
DTSTART:20251026T010000
END:STANDARD
BEGIN:DAYLIGHT
TZOFFSETFROM:+0100
TZOFFSETTO:+0200
TZNAME:CEST
DTSTART:20260329T010000
END:DAYLIGHT
BEGIN:STANDARD
TZOFFSETFROM:+0200
TZOFFSETTO:+0100
TZNAME:CET
DTSTART:20261025T010000
END:STANDARD
BEGIN:DAYLIGHT
TZOFFSETFROM:+0100
TZOFFSETTO:+0200
TZNAME:CEST
DTSTART:20270328T010000
END:DAYLIGHT
BEGIN:STANDARD
TZOFFSETFROM:+0200
TZOFFSETTO:+0100
TZNAME:CET
DTSTART:20271031T010000
END:STANDARD
END:VTIMEZONE
BEGIN:VEVENT
DTSTART;TZID=Europe/Madrid:20260201T160000
DTEND;TZID=Europe/Madrid:20260201T200000
DTSTAMP:20260421T133745
CREATED:20260127T211417Z
LAST-MODIFIED:20260127T212004Z
UID:348-1769961600-1769976000@ludoquintinenca.cat
SUMMARY:Jornada Extra 2.  Preparació personatges ROL.
DESCRIPTION:Dia dedicat a preparar personatges per a les partides de rol.\nLa primera sessió serà el 21 (places limitades a 4 persones). \nSi voleu\, podeu quedar-vos a jugar a jocs de taula en format tranquil com els dies de normal.
URL:https://ludoquintinenca.cat/esdeveniment/jornada-extra-2-preparacio-personatges-rol/
LOCATION:Local ALQ\, Av. Catalunya 39\, local 1\, Sant Quintí de Mediona\, Barcelona\, 08777\, Spain
CATEGORIES:Extra,Jornada silenciosa
ATTACH;FMTTYPE=image/png:https://ludoquintinenca.cat/wp-content/uploads/2026/01/rol_creacio.png
END:VEVENT
BEGIN:VEVENT
DTSTART;TZID=Europe/Madrid:20260214T160000
DTEND;TZID=Europe/Madrid:20260214T200000
DTSTAMP:20260421T133745
CREATED:20260105T113054Z
LAST-MODIFIED:20260105T183438Z
UID:210-1771084800-1771099200@ludoquintinenca.cat
SUMMARY:Jornada 5. Especial dia dels enamorats.
DESCRIPTION:Vine a divertir-te en parella\, jornada dedicada als jocs on es pugui jugar cooperativament en parella o entre parelles.
URL:https://ludoquintinenca.cat/esdeveniment/jornada-5-especial-dia-dels-enamorats/
LOCATION:Local ALQ\, Av. Catalunya 39\, local 1\, Sant Quintí de Mediona\, Barcelona\, 08777\, Spain
ATTACH;FMTTYPE=image/png:https://ludoquintinenca.cat/wp-content/uploads/2026/01/dia-dels-enamorats-scaled.png
END:VEVENT
BEGIN:VEVENT
DTSTART;TZID=Europe/Madrid:20260215T160000
DTEND;TZID=Europe/Madrid:20260215T200000
DTSTAMP:20260421T133745
CREATED:20260105T113524Z
LAST-MODIFIED:20260108T074126Z
UID:212-1771171200-1771185600@ludoquintinenca.cat
SUMMARY:Jornada 6. Preparació personatges ROL.
DESCRIPTION:Dia dedicat a preparar els personatges a utilitzar en les partides de rol. La primera partida se celebrarà el dia 21 (limitat a 4 persones).\n\nTambé es jugarà a “Aventureros al tren”.\n  \nAquest dia es limitaran els jocs d’alta intensitat sonora com Beyblade.
URL:https://ludoquintinenca.cat/esdeveniment/jornada-6-preparacio-personatges-rol/
LOCATION:Local ALQ\, Av. Catalunya 39\, local 1\, Sant Quintí de Mediona\, Barcelona\, 08777\, Spain
ATTACH;FMTTYPE=image/jpeg:https://ludoquintinenca.cat/wp-content/uploads/2026/01/Rol.jpeg
END:VEVENT
BEGIN:VEVENT
DTSTART;TZID=Europe/Madrid:20260221T160000
DTEND;TZID=Europe/Madrid:20260221T200000
DTSTAMP:20260421T133745
CREATED:20260105T114141Z
LAST-MODIFIED:20260108T150447Z
UID:214-1771689600-1771704000@ludoquintinenca.cat
SUMMARY:Jornada 7. Rol i D&D.
DESCRIPTION:One shot rol (Límit 4 persones). \nJoc de taula de D&D (Límit 4 persones) \n  \nAquest dia no es permetran els jocs d’alta intensitat sonora com Beyblade.
URL:https://ludoquintinenca.cat/esdeveniment/jornada-7-rol-i-dd/
LOCATION:Local ALQ\, Av. Catalunya 39\, local 1\, Sant Quintí de Mediona\, Barcelona\, 08777\, Spain
ATTACH;FMTTYPE=image/jpeg:https://ludoquintinenca.cat/wp-content/uploads/2026/01/DnD-BOX.jpeg
END:VEVENT
BEGIN:VEVENT
DTSTART;TZID=Europe/Madrid:20260228T160000
DTEND;TZID=Europe/Madrid:20260228T200000
DTSTAMP:20260421T133745
CREATED:20260105T114810Z
LAST-MODIFIED:20260225T125521Z
UID:217-1772294400-1772308800@ludoquintinenca.cat
SUMMARY:Jornada 8. Draft Magic "Lorwyn Eclipsed"
DESCRIPTION:Draft Magic “Lorwyn Eclipsed”.\nEsdeveniment amb inscripció prèvia\n3 sobres per cap.\n15€
URL:https://ludoquintinenca.cat/esdeveniment/jornada-8-draft-magic-lorwyn-eclipse/
LOCATION:Local ALQ\, Av. Catalunya 39\, local 1\, Sant Quintí de Mediona\, Barcelona\, 08777\, Spain
CATEGORIES:Porta tancada
ATTACH;FMTTYPE=image/png:https://ludoquintinenca.cat/wp-content/uploads/2026/01/Lorwyn-Eclipsed.png
END:VEVENT
END:VCALENDAR